BEGIN:VCALENDAR
VERSION:2.0
PRODID:-//HBC Triathlon and Multisport Club - ECPv6.9.0//NONSGML v1.0//EN
CALSCALE:GREGORIAN
METHOD:PUBLISH
X-WR-CALNAME:HBC Triathlon and Multisport Club
X-ORIGINAL-URL:https://www.hbctri.co.nz
X-WR-CALDESC:Events for HBC Triathlon and Multisport Club
REFRESH-INTERVAL;VALUE=DURATION:PT1H
X-Robots-Tag:noindex
X-PUBLISHED-TTL:PT1H
BEGIN:VTIMEZONE
TZID:Pacific/Auckland
BEGIN:STANDARD
TZOFFSETFROM:+1300
TZOFFSETTO:+1200
TZNAME:NZST
DTSTART:20260404T140000
END:STANDARD
BEGIN:DAYLIGHT
TZOFFSETFROM:+1200
TZOFFSETTO:+1300
TZNAME:NZDT
DTSTART:20260926T140000
END:DAYLIGHT
END:VTIMEZONE
BEGIN:VEVENT
DTSTART;TZID=Pacific/Auckland:20260719T073000
DTEND;TZID=Pacific/Auckland:20260719T093000
DTSTAMP:20260421T202832
CREATED:20241128T080415Z
LAST-MODIFIED:20241128T080415Z
UID:10000986-1784446200-1784453400@www.hbctri.co.nz
SUMMARY:Winter Ride Training
DESCRIPTION:Weather dependent in Winter
URL:https://www.hbctri.co.nz/event/winter-ride-training/2026-07-19/
LOCATION:Millwater Parkway\, Silverdale\, Auckland\, New Zealand
CATEGORIES:Training
ATTACH;FMTTYPE=image/webp:https://www.hbctri.co.nz/wp-content/uploads/2024/11/cycling-triathlon-l.webp
GEO:-36.606166745508;174.6784550251
END:VEVENT
BEGIN:VEVENT
DTSTART;TZID=Pacific/Auckland:20260726T073000
DTEND;TZID=Pacific/Auckland:20260726T093000
DTSTAMP:20260421T202832
CREATED:20241128T080415Z
LAST-MODIFIED:20241128T080415Z
UID:10000987-1785051000-1785058200@www.hbctri.co.nz
SUMMARY:Winter Ride Training
DESCRIPTION:Weather dependent in Winter
URL:https://www.hbctri.co.nz/event/winter-ride-training/2026-07-26/
LOCATION:Millwater Parkway\, Silverdale\, Auckland\, New Zealand
CATEGORIES:Training
ATTACH;FMTTYPE=image/webp:https://www.hbctri.co.nz/wp-content/uploads/2024/11/cycling-triathlon-l.webp
GEO:-36.606166745508;174.6784550251
END:VEVENT
BEGIN:VEVENT
DTSTART;TZID=Pacific/Auckland:20260802T073000
DTEND;TZID=Pacific/Auckland:20260802T093000
DTSTAMP:20260421T202832
CREATED:20241128T080415Z
LAST-MODIFIED:20241128T080415Z
UID:10000988-1785655800-1785663000@www.hbctri.co.nz
SUMMARY:Winter Ride Training
DESCRIPTION:Weather dependent in Winter
URL:https://www.hbctri.co.nz/event/winter-ride-training/2026-08-02/
LOCATION:Millwater Parkway\, Silverdale\, Auckland\, New Zealand
CATEGORIES:Training
ATTACH;FMTTYPE=image/webp:https://www.hbctri.co.nz/wp-content/uploads/2024/11/cycling-triathlon-l.webp
GEO:-36.606166745508;174.6784550251
END:VEVENT
BEGIN:VEVENT
DTSTART;TZID=Pacific/Auckland:20260809T073000
DTEND;TZID=Pacific/Auckland:20260809T093000
DTSTAMP:20260421T202832
CREATED:20241128T080415Z
LAST-MODIFIED:20241128T080415Z
UID:10000989-1786260600-1786267800@www.hbctri.co.nz
SUMMARY:Winter Ride Training
DESCRIPTION:Weather dependent in Winter
URL:https://www.hbctri.co.nz/event/winter-ride-training/2026-08-09/
LOCATION:Millwater Parkway\, Silverdale\, Auckland\, New Zealand
CATEGORIES:Training
ATTACH;FMTTYPE=image/webp:https://www.hbctri.co.nz/wp-content/uploads/2024/11/cycling-triathlon-l.webp
GEO:-36.606166745508;174.6784550251
END:VEVENT
BEGIN:VEVENT
DTSTART;TZID=Pacific/Auckland:20260816T073000
DTEND;TZID=Pacific/Auckland:20260816T093000
DTSTAMP:20260421T202832
CREATED:20241128T080415Z
LAST-MODIFIED:20241128T080415Z
UID:10000990-1786865400-1786872600@www.hbctri.co.nz
SUMMARY:Winter Ride Training
DESCRIPTION:Weather dependent in Winter
URL:https://www.hbctri.co.nz/event/winter-ride-training/2026-08-16/
LOCATION:Millwater Parkway\, Silverdale\, Auckland\, New Zealand
CATEGORIES:Training
ATTACH;FMTTYPE=image/webp:https://www.hbctri.co.nz/wp-content/uploads/2024/11/cycling-triathlon-l.webp
GEO:-36.606166745508;174.6784550251
END:VEVENT
BEGIN:VEVENT
DTSTART;TZID=Pacific/Auckland:20260823T073000
DTEND;TZID=Pacific/Auckland:20260823T093000
DTSTAMP:20260421T202832
CREATED:20241128T080415Z
LAST-MODIFIED:20241128T080415Z
UID:10000991-1787470200-1787477400@www.hbctri.co.nz
SUMMARY:Winter Ride Training
DESCRIPTION:Weather dependent in Winter
URL:https://www.hbctri.co.nz/event/winter-ride-training/2026-08-23/
LOCATION:Millwater Parkway\, Silverdale\, Auckland\, New Zealand
CATEGORIES:Training
ATTACH;FMTTYPE=image/webp:https://www.hbctri.co.nz/wp-content/uploads/2024/11/cycling-triathlon-l.webp
GEO:-36.606166745508;174.6784550251
END:VEVENT
BEGIN:VEVENT
DTSTART;TZID=Pacific/Auckland:20260830T073000
DTEND;TZID=Pacific/Auckland:20260830T093000
DTSTAMP:20260421T202832
CREATED:20241128T080415Z
LAST-MODIFIED:20241128T080415Z
UID:10000992-1788075000-1788082200@www.hbctri.co.nz
SUMMARY:Winter Ride Training
DESCRIPTION:Weather dependent in Winter
URL:https://www.hbctri.co.nz/event/winter-ride-training/2026-08-30/
LOCATION:Millwater Parkway\, Silverdale\, Auckland\, New Zealand
CATEGORIES:Training
ATTACH;FMTTYPE=image/webp:https://www.hbctri.co.nz/wp-content/uploads/2024/11/cycling-triathlon-l.webp
GEO:-36.606166745508;174.6784550251
END:VEVENT
BEGIN:VEVENT
DTSTART;TZID=Pacific/Auckland:20260906T073000
DTEND;TZID=Pacific/Auckland:20260906T093000
DTSTAMP:20260421T202832
CREATED:20241128T080415Z
LAST-MODIFIED:20241128T080415Z
UID:10000993-1788679800-1788687000@www.hbctri.co.nz
SUMMARY:Winter Ride Training
DESCRIPTION:Weather dependent in Winter
URL:https://www.hbctri.co.nz/event/winter-ride-training/2026-09-06/
LOCATION:Millwater Parkway\, Silverdale\, Auckland\, New Zealand
CATEGORIES:Training
ATTACH;FMTTYPE=image/webp:https://www.hbctri.co.nz/wp-content/uploads/2024/11/cycling-triathlon-l.webp
GEO:-36.606166745508;174.6784550251
END:VEVENT
BEGIN:VEVENT
DTSTART;TZID=Pacific/Auckland:20260913T073000
DTEND;TZID=Pacific/Auckland:20260913T093000
DTSTAMP:20260421T202832
CREATED:20241128T080415Z
LAST-MODIFIED:20241128T080415Z
UID:10000994-1789284600-1789291800@www.hbctri.co.nz
SUMMARY:Winter Ride Training
DESCRIPTION:Weather dependent in Winter
URL:https://www.hbctri.co.nz/event/winter-ride-training/2026-09-13/
LOCATION:Millwater Parkway\, Silverdale\, Auckland\, New Zealand
CATEGORIES:Training
ATTACH;FMTTYPE=image/webp:https://www.hbctri.co.nz/wp-content/uploads/2024/11/cycling-triathlon-l.webp
GEO:-36.606166745508;174.6784550251
END:VEVENT
BEGIN:VEVENT
DTSTART;TZID=Pacific/Auckland:20260920T073000
DTEND;TZID=Pacific/Auckland:20260920T093000
DTSTAMP:20260421T202832
CREATED:20241128T080415Z
LAST-MODIFIED:20241128T080415Z
UID:10000995-1789889400-1789896600@www.hbctri.co.nz
SUMMARY:Winter Ride Training
DESCRIPTION:Weather dependent in Winter
URL:https://www.hbctri.co.nz/event/winter-ride-training/2026-09-20/
LOCATION:Millwater Parkway\, Silverdale\, Auckland\, New Zealand
CATEGORIES:Training
ATTACH;FMTTYPE=image/webp:https://www.hbctri.co.nz/wp-content/uploads/2024/11/cycling-triathlon-l.webp
GEO:-36.606166745508;174.6784550251
END:VEVENT
BEGIN:VEVENT
DTSTART;TZID=Pacific/Auckland:20260927T073000
DTEND;TZID=Pacific/Auckland:20260927T093000
DTSTAMP:20260421T202832
CREATED:20241128T080415Z
LAST-MODIFIED:20241128T080415Z
UID:10000996-1790494200-1790501400@www.hbctri.co.nz
SUMMARY:Winter Ride Training
DESCRIPTION:Weather dependent in Winter
URL:https://www.hbctri.co.nz/event/winter-ride-training/2026-09-27/
LOCATION:Millwater Parkway\, Silverdale\, Auckland\, New Zealand
CATEGORIES:Training
ATTACH;FMTTYPE=image/webp:https://www.hbctri.co.nz/wp-content/uploads/2024/11/cycling-triathlon-l.webp
GEO:-36.606166745508;174.6784550251
END:VEVENT
END:VCALENDAR